BEGIN:VCALENDAR
VERSION:2.0
PRODID:-//La Scène indépendante - ECPv6.15.18//NONSGML v1.0//EN
CALSCALE:GREGORIAN
METHOD:PUBLISH
X-WR-CALNAME:La Scène indépendante
X-ORIGINAL-URL:https://www.lasceneindependante.org
X-WR-CALDESC:Évènements pour La Scène indépendante
REFRESH-INTERVAL;VALUE=DURATION:PT1H
X-Robots-Tag:noindex
X-PUBLISHED-TTL:PT1H
BEGIN:VTIMEZONE
TZID:UTC
BEGIN:STANDARD
TZOFFSETFROM:+0000
TZOFFSETTO:+0000
TZNAME:UTC
DTSTART:20250101T000000
END:STANDARD
END:VTIMEZONE
BEGIN:VEVENT
DTSTART;VALUE=DATE:20260307
DTEND;VALUE=DATE:20260316
DTSTAMP:20260420T114503
CREATED:20260212T112018Z
LAST-MODIFIED:20260212T112018Z
UID:4424-1772841600-1773619199@www.lasceneindependante.org
SUMMARY:Festival Plus Fort.es Ensemble
DESCRIPTION:
URL:https://www.lasceneindependante.org/event/festival-plus-fort-es-ensemble/
LOCATION:La Nouvelle Seine\, Paris\, France
ATTACH;FMTTYPE=image/png:https://www.lasceneindependante.org/wp-content/uploads/2026/02/Plus_fortes_ensemble.png
END:VEVENT
END:VCALENDAR