BEGIN:VCALENDAR
VERSION:2.0
PRODID:-//La Scène indépendante - ECPv6.15.18//NONSGML v1.0//EN
CALSCALE:GREGORIAN
METHOD:PUBLISH
X-WR-CALNAME:La Scène indépendante
X-ORIGINAL-URL:https://www.lasceneindependante.org
X-WR-CALDESC:Évènements pour La Scène indépendante
REFRESH-INTERVAL;VALUE=DURATION:PT1H
X-Robots-Tag:noindex
X-PUBLISHED-TTL:PT1H
BEGIN:VTIMEZONE
TZID:UTC
BEGIN:STANDARD
TZOFFSETFROM:+0000
TZOFFSETTO:+0000
TZNAME:UTC
DTSTART:20250101T000000
END:STANDARD
END:VTIMEZONE
BEGIN:VEVENT
DTSTART;VALUE=DATE:20260511
DTEND;VALUE=DATE:20260512
DTSTAMP:20260420T023247
CREATED:20260212T113803Z
LAST-MODIFIED:20260218T085515Z
UID:4444-1778457600-1778543999@www.lasceneindependante.org
SUMMARY:Assemblée Générale & Forum des indépendants
DESCRIPTION:
URL:https://www.lasceneindependante.org/event/ag-forum-des-independants-lsi/
LOCATION:paris\, Paris\, France
ATTACH;FMTTYPE=image/png:https://www.lasceneindependante.org/wp-content/uploads/2026/02/LSI.png
END:VEVENT
BEGIN:VEVENT
DTSTART;VALUE=DATE:20260706
DTEND;VALUE=DATE:20260727
DTSTAMP:20260420T023247
CREATED:20260212T114044Z
LAST-MODIFIED:20260212T114044Z
UID:4448-1783296000-1785110399@www.lasceneindependante.org
SUMMARY:Festival Off Avignon 2026
DESCRIPTION:
URL:https://www.lasceneindependante.org/event/festival-off-avignon-2026/
LOCATION:Avignon\, Avignon\, France
ATTACH;FMTTYPE=image/png:https://www.lasceneindependante.org/wp-content/uploads/2026/02/Festival_off_Avignon.png
END:VEVENT
BEGIN:VEVENT
DTSTART;VALUE=DATE:20260710
DTEND;VALUE=DATE:20260715
DTSTAMP:20260420T023247
CREATED:20260212T114649Z
LAST-MODIFIED:20260212T114649Z
UID:4452-1783641600-1784073599@www.lasceneindependante.org
SUMMARY:Francofolies 2026
DESCRIPTION:
URL:https://www.lasceneindependante.org/event/francofolies-2026/
LOCATION:La Rochelle\, La Rochelle\, France
ATTACH;FMTTYPE=image/png:https://www.lasceneindependante.org/wp-content/uploads/2026/02/Francofolies.png
END:VEVENT
BEGIN:VEVENT
DTSTART;VALUE=DATE:20261014
DTEND;VALUE=DATE:20261017
DTSTAMP:20260420T023247
CREATED:20260212T115047Z
LAST-MODIFIED:20260212T115047Z
UID:4456-1791936000-1792195199@www.lasceneindependante.org
SUMMARY:MaMA Festival 2026
DESCRIPTION:
URL:https://www.lasceneindependante.org/event/mama-festival-2026/
LOCATION:paris\, Paris\, France
ATTACH;FMTTYPE=image/png:https://www.lasceneindependante.org/wp-content/uploads/2026/02/MaMA.png
END:VEVENT
END:VCALENDAR